BEGIN:VCALENDAR
VERSION:2.0
PRODID:-//eventon.com NONSGML v1.0//EN
CALSCALE:GREGORIAN
METHOD:PUBLISH
BEGIN:VEVENT
UID:69e4cf1c331d5
DTSTAMP:20260419T124828Z
DTSTART:20211221
DTEND:20211222
LOCATION:
SUMMARY:Evangelist Pamela Hamilton
DESCRIPTION:Evangelist Pamela Hamilton\nhttps://iwma.pawinc.org/events/evan
 gelist-pamela-hamilton/
URL:https://iwma.pawinc.org/events/evangelist-pamela-hamilton/
END:VEVENT
END:VCALENDAR